BEGIN:VCALENDAR
VERSION:2.0
PRODID:-//eventon.com NONSGML v1.0//EN
BEGIN:VEVENT
UID:69e8e3eba153e
DTSTAMP:20260422T110619
DTSTART:20210327T000000Z
DTEND:20210327T235900Z
LOCATION:Langley Speedway 
SUMMARY:Open Practice
DESCRIPTION: Open Practice
URL:http://langley.riverdale24.productions/events/open-practice-march-27/
END:VEVENT
END:VCALENDAR