BEGIN:VCALENDAR
VERSION:2.0
PRODID:-//eventon.com NONSGML v1.0//EN
BEGIN:VEVENT
UID:69e8e49197f1f
DTSTAMP:20260422T110905
DTSTART:20211016T190000Z
DTEND:20211016T220000Z
LOCATION:Langley Speedway 
SUMMARY:2021 Championship Night 2
DESCRIPTION: 2021 Championship Night 2
URL:http://langley.riverdale24.productions/events/2021-championship-night-2/
END:VEVENT
END:VCALENDAR