BEGIN:VCALENDAR
VERSION:2.0
PRODID:-//eventon.com NONSGML v1.0//EN
BEGIN:VEVENT
UID:69e8d16867349
DTSTAMP:20260422T094720
DTSTART:20211009T190000Z
DTEND:20211009T220000Z
LOCATION:Langley Speedway 
SUMMARY:2021 Championship Night 1
DESCRIPTION: 2021 Championship Night 1
URL:http://langley.riverdale24.productions/events/2021-championship-night-1/
END:VEVENT
END:VCALENDAR