BEGIN:VCALENDAR
VERSION:2.0
PRODID:-//eventon.com NONSGML v1.0//EN
BEGIN:VEVENT
UID:69e8e44e4bbd2
DTSTAMP:20260422T110758
DTSTART:20210904T190000Z
DTEND:20210904T220000Z
LOCATION:Langley Speedway 
SUMMARY:Weekly
DESCRIPTION: Weekly
URL:http://langley.riverdale24.productions/events/weekly-sept-4/
END:VEVENT
END:VCALENDAR