BEGIN:VCALENDAR
VERSION:2.0
PRODID:-//eventon.com NONSGML v1.0//EN
BEGIN:VEVENT
UID:69e8e48c067ea
DTSTAMP:20260422T110900
DTSTART:20210828T190000Z
DTEND:20210828T220000Z
LOCATION:Langley Speedway 
SUMMARY:Weekly
DESCRIPTION: Weekly
URL:http://langley.riverdale24.productions/events/weekly-august-28/
END:VEVENT
END:VCALENDAR