BEGIN:VCALENDAR
VERSION:2.0
PRODID:-//eventon.com NONSGML v1.0//EN
BEGIN:VEVENT
UID:69e8e4f8f1ac6
DTSTAMP:20260422T111048
DTSTART:20210821T190000Z
DTEND:20210821T220000Z
LOCATION:Langley Speedway 
SUMMARY:Shawn Balluzzo Memorial 100
DESCRIPTION: Shawn Balluzzo Memorial 100
URL:http://langley.riverdale24.productions/events/shawn-balluzzo-memorial-100-august-21/
END:VEVENT
END:VCALENDAR