BEGIN:VCALENDAR
VERSION:2.0
PRODID:-//eventon.com NONSGML v1.0//EN
BEGIN:VEVENT
UID:69e8e507a5a54
DTSTAMP:20260422T111103
DTSTART:20210724T190000Z
DTEND:20210724T220000Z
LOCATION:Langley Speedway 
SUMMARY:Full Moon Night | Weekly
DESCRIPTION: Full Moon Night | Weekly
URL:http://langley.riverdale24.productions/events/full-moon-night-weekly-july-24/
END:VEVENT
END:VCALENDAR