BEGIN:VCALENDAR
VERSION:2.0
PRODID:-//eventon.com NONSGML v1.0//EN
BEGIN:VEVENT
UID:69e8d17716103
DTSTAMP:20260422T094735
DTSTART:20210717T190000Z
DTEND:20210717T220000Z
LOCATION:Langley Speedway 
SUMMARY:13th Annual Hampton Heat
DESCRIPTION: 13th Annual Hampton Heat
URL:http://langley.riverdale24.productions/events/13th-annual-hampton-heat/
END:VEVENT
END:VCALENDAR