BEGIN:VCALENDAR
VERSION:2.0
PRODID:-//eventon.com NONSGML v1.0//EN
BEGIN:VEVENT
UID:69e8d1679cab7
DTSTAMP:20260422T094719
DTSTART:20210710T190000Z
DTEND:20210710T220000Z
LOCATION:Langley Speedway 
SUMMARY:Weekly
DESCRIPTION: Weekly
URL:http://langley.riverdale24.productions/events/weekly-july-10/
END:VEVENT
END:VCALENDAR