BEGIN:VCALENDAR
VERSION:2.0
PRODID:-//eventon.com NONSGML v1.0//EN
BEGIN:VEVENT
UID:69e8d1977a48a
DTSTAMP:20260422T094807
DTSTART:20210703T190000Z
DTEND:20210703T220000Z
LOCATION:Langley Speedway 
SUMMARY:Fireworks & Virginia Sprint Car Series
DESCRIPTION: Fireworks & Virginia Sprint Car Series
URL:http://langley.riverdale24.productions/events/fireworks-virginia-sprint-car-series-july-3/
END:VEVENT
END:VCALENDAR