BEGIN:VCALENDAR
VERSION:2.0
PRODID:-//eventon.com NONSGML v1.0//EN
BEGIN:VEVENT
UID:69e8e4b47a092
DTSTAMP:20260422T110940
DTSTART:20210619T190000Z
DTEND:20210619T220000Z
LOCATION:Langley Speedway 
SUMMARY:Weekly
DESCRIPTION: Weekly
URL:http://langley.riverdale24.productions/events/weekly-june-19/
END:VEVENT
END:VCALENDAR