BEGIN:VCALENDAR
VERSION:2.0
PRODID:-//eventon.com NONSGML v1.0//EN
BEGIN:VEVENT
UID:69e8d1ca3c314
DTSTAMP:20260422T094858
DTSTART:20210612T190000Z
DTEND:20210612T220000Z
LOCATION:Langley Speedway 
SUMMARY:Weekly
DESCRIPTION: Weekly
URL:http://langley.riverdale24.productions/events/weekly-june-12/
END:VEVENT
END:VCALENDAR