BEGIN:VCALENDAR
VERSION:2.0
PRODID:-//eventon.com NONSGML v1.0//EN
BEGIN:VEVENT
UID:69e8d1981defd
DTSTAMP:20260422T094808
DTSTART:20210605T190000Z
DTEND:20210605T220000Z
LOCATION:Langley Speedway 
SUMMARY:CARS Tour 125
DESCRIPTION: CARS Tour 125
URL:http://langley.riverdale24.productions/events/cars-tour-125-june-5/
END:VEVENT
END:VCALENDAR