BEGIN:VCALENDAR
VERSION:2.0
PRODID:-//eventon.com NONSGML v1.0//EN
BEGIN:VEVENT
UID:69e8e3ffa157c
DTSTAMP:20260422T110639
DTSTART:20210403T190000Z
DTEND:20210403T220000Z
LOCATION:Langley Speedway 
SUMMARY:2021 Opening Night
DESCRIPTION: 2021 Opening Night
URL:http://langley.riverdale24.productions/events/2021-opening-night/
END:VEVENT
END:VCALENDAR